BEGIN:VCALENDAR
VERSION:2.0
PRODID:-//Immanuel Anglican Church - ECPv4.6.19//NONSGML v1.0//EN
CALSCALE:GREGORIAN
METHOD:PUBLISH
X-WR-CALNAME:Immanuel Anglican Church
X-ORIGINAL-URL:https://immanuelanglican.ca
X-WR-CALDESC:Events for Immanuel Anglican Church
BEGIN:VEVENT
DTSTART;TZID=America/Edmonton:20241224T190000
DTEND;TZID=America/Edmonton:20241224T203000
DTSTAMP:20260420T035242
CREATED:20241102T194829Z
LAST-MODIFIED:20241102T194834Z
UID:6857-1735066800-1735072200@immanuelanglican.ca
SUMMARY:Christmas Eve Service
DESCRIPTION:
URL:https://immanuelanglican.ca/event/christmas-eve-service-6/
CATEGORIES:One Time
END:VEVENT
END:VCALENDAR