BEGIN:VCALENDAR
VERSION:2.0
PRODID:-//Immanuel Anglican Church - ECPv4.6.19//NONSGML v1.0//EN
CALSCALE:GREGORIAN
METHOD:PUBLISH
X-WR-CALNAME:Immanuel Anglican Church
X-ORIGINAL-URL:https://immanuelanglican.ca
X-WR-CALDESC:Events for Immanuel Anglican Church
BEGIN:VEVENT
DTSTART;TZID=America/Edmonton:20241203T190000
DTEND;TZID=America/Edmonton:20241203T203000
DTSTAMP:20260420T040335
CREATED:20241202T165037Z
LAST-MODIFIED:20241202T165037Z
UID:6905-1733252400-1733257800@immanuelanglican.ca
SUMMARY:Community Christmas Carol Festival at First United Church
DESCRIPTION:
URL:https://immanuelanglican.ca/event/community-christmas-carol-festival-at-first-united-church/
CATEGORIES:One Time
END:VEVENT
END:VCALENDAR