BEGIN:VCALENDAR
VERSION:2.0
PRODID:-//Immanuel Anglican Church - ECPv4.6.19//NONSGML v1.0//EN
CALSCALE:GREGORIAN
METHOD:PUBLISH
X-WR-CALNAME:Immanuel Anglican Church
X-ORIGINAL-URL:https://immanuelanglican.ca
X-WR-CALDESC:Events for Immanuel Anglican Church
BEGIN:VEVENT
DTSTART;TZID=America/Edmonton:20240409T190000
DTEND;TZID=America/Edmonton:20240409T200000
DTSTAMP:20260419T213409
CREATED:20240409T153643Z
LAST-MODIFIED:20240409T153643Z
UID:6594-1712689200-1712692800@immanuelanglican.ca
SUMMARY:Learning the Honour Song
DESCRIPTION:
URL:https://immanuelanglican.ca/event/learning-the-honour-song/
CATEGORIES:One Time
END:VEVENT
END:VCALENDAR