BEGIN:VCALENDAR
VERSION:2.0
PRODID:-//Immanuel Anglican Church - ECPv4.6.19//NONSGML v1.0//EN
CALSCALE:GREGORIAN
METHOD:PUBLISH
X-WR-CALNAME:Immanuel Anglican Church
X-ORIGINAL-URL:https://immanuelanglican.ca
X-WR-CALDESC:Events for Immanuel Anglican Church
BEGIN:VEVENT
DTSTART;TZID=America/Edmonton:20240329T100000
DTEND;TZID=America/Edmonton:20240329T110000
DTSTAMP:20260422T163035
CREATED:20240222T170555Z
LAST-MODIFIED:20240222T170555Z
UID:6531-1711706400-1711710000@immanuelanglican.ca
SUMMARY:Good Friday Service
DESCRIPTION: \n
URL:https://immanuelanglican.ca/event/good-friday-service-4/
CATEGORIES:One Time
END:VEVENT
END:VCALENDAR