BEGIN:VCALENDAR
VERSION:2.0
PRODID:-//Immanuel Anglican Church - ECPv4.6.19//NONSGML v1.0//EN
CALSCALE:GREGORIAN
METHOD:PUBLISH
X-WR-CALNAME:Immanuel Anglican Church
X-ORIGINAL-URL:https://immanuelanglican.ca
X-WR-CALDESC:Events for Immanuel Anglican Church
BEGIN:VEVENT
DTSTART;TZID=America/Edmonton:20240328T180000
DTEND;TZID=America/Edmonton:20240328T200000
DTSTAMP:20260424T104246
CREATED:20240222T170458Z
LAST-MODIFIED:20240222T170458Z
UID:6529-1711648800-1711656000@immanuelanglican.ca
SUMMARY:Maundy Thursday Supper and Service
DESCRIPTION: \n
URL:https://immanuelanglican.ca/event/maundy-thursday-supper-and-service/
CATEGORIES:One Time
END:VEVENT
END:VCALENDAR