BEGIN:VCALENDAR
VERSION:2.0
PRODID:-//Immanuel Anglican Church - ECPv4.6.19//NONSGML v1.0//EN
CALSCALE:GREGORIAN
METHOD:PUBLISH
X-WR-CALNAME:Immanuel Anglican Church
X-ORIGINAL-URL:https://immanuelanglican.ca
X-WR-CALDESC:Events for Immanuel Anglican Church
BEGIN:VEVENT
DTSTART;TZID=America/Edmonton:20240324T100000
DTEND;TZID=America/Edmonton:20240324T113000
DTSTAMP:20260423T092309
CREATED:20240222T170357Z
LAST-MODIFIED:20240222T170357Z
UID:6527-1711274400-1711279800@immanuelanglican.ca
SUMMARY:Palm Sunday Service
DESCRIPTION:
URL:https://immanuelanglican.ca/event/palm-sunday-service-3/
CATEGORIES:One Time
END:VEVENT
END:VCALENDAR