BEGIN:VCALENDAR
VERSION:2.0
PRODID:-//Immanuel Anglican Church - ECPv4.6.19//NONSGML v1.0//EN
CALSCALE:GREGORIAN
METHOD:PUBLISH
X-WR-CALNAME:Immanuel Anglican Church
X-ORIGINAL-URL:https://immanuelanglican.ca
X-WR-CALDESC:Events for Immanuel Anglican Church
BEGIN:VEVENT
DTSTART;TZID=America/Edmonton:20240213T170000
DTEND;TZID=America/Edmonton:20240213T190000
DTSTAMP:20260423T111313
CREATED:20240131T161424Z
LAST-MODIFIED:20240211T151929Z
UID:6478-1707843600-1707850800@immanuelanglican.ca
SUMMARY:Shrove Tuesday Pancake Supper
DESCRIPTION: \nYou are invited to join us for pancakes on Tuesday\, Feb. 13\, 5:00 to 7:00 PM in the church hall.  Cost is $10 for adults and children 12 and older.  $5 for children under 12.  A family plan may be available.  If you would like a 'to go' order please text Joyce at 780-312-1108. \n
URL:https://immanuelanglican.ca/event/shrove-tuesday-pancake-supper-2/
CATEGORIES:One Time
END:VEVENT
END:VCALENDAR