BEGIN:VCALENDAR
VERSION:2.0
PRODID:-//Immanuel Anglican Church - ECPv4.6.19//NONSGML v1.0//EN
CALSCALE:GREGORIAN
METHOD:PUBLISH
X-WR-CALNAME:Immanuel Anglican Church
X-ORIGINAL-URL:https://immanuelanglican.ca
X-WR-CALDESC:Events for Immanuel Anglican Church
BEGIN:VEVENT
DTSTART;TZID=America/Edmonton:20231112T100000
DTEND;TZID=America/Edmonton:20231112T113000
DTSTAMP:20260423T174213
CREATED:20231031T163545Z
LAST-MODIFIED:20231031T163545Z
UID:6366-1699783200-1699788600@immanuelanglican.ca
SUMMARY:Service of Remembrance
DESCRIPTION: \n
URL:https://immanuelanglican.ca/event/service-of-remembrance-3/
CATEGORIES:One Time
END:VEVENT
END:VCALENDAR