BEGIN:VCALENDAR
VERSION:2.0
PRODID:-//Immanuel Anglican Church - ECPv4.6.19//NONSGML v1.0//EN
CALSCALE:GREGORIAN
METHOD:PUBLISH
X-WR-CALNAME:Immanuel Anglican Church
X-ORIGINAL-URL:https://immanuelanglican.ca
X-WR-CALDESC:Events for Immanuel Anglican Church
BEGIN:VEVENT
DTSTART;TZID=America/Edmonton:20231110T100000
DTEND;TZID=America/Edmonton:20231110T110000
DTSTAMP:20260423T174841
CREATED:20231031T163303Z
LAST-MODIFIED:20231031T163303Z
UID:6362-1699610400-1699614000@immanuelanglican.ca
SUMMARY:Gathering for Coffee
DESCRIPTION:
URL:https://immanuelanglican.ca/event/gathering-for-coffee-5/
CATEGORIES:Biweekly
END:VEVENT
END:VCALENDAR