BEGIN:VCALENDAR
VERSION:2.0
PRODID:-//Immanuel Anglican Church - ECPv4.6.19//NONSGML v1.0//EN
CALSCALE:GREGORIAN
METHOD:PUBLISH
X-WR-CALNAME:Immanuel Anglican Church
X-ORIGINAL-URL:https://immanuelanglican.ca
X-WR-CALDESC:Events for Immanuel Anglican Church
BEGIN:VEVENT
DTSTART;TZID=America/Edmonton:20231013T100000
DTEND;TZID=America/Edmonton:20231013T110000
DTSTAMP:20260420T072107
CREATED:20231011T152656Z
LAST-MODIFIED:20231011T152656Z
UID:6342-1697191200-1697194800@immanuelanglican.ca
SUMMARY:Gathering for Coffee
DESCRIPTION:You are invited to join us in the church hall for coffee and a visit. \n
URL:https://immanuelanglican.ca/event/gathering-for-coffee-4/
CATEGORIES:Biweekly
END:VEVENT
END:VCALENDAR