BEGIN:VCALENDAR
VERSION:2.0
PRODID:-//Immanuel Anglican Church - ECPv4.6.19//NONSGML v1.0//EN
CALSCALE:GREGORIAN
METHOD:PUBLISH
X-WR-CALNAME:Immanuel Anglican Church
X-ORIGINAL-URL:https://immanuelanglican.ca
X-WR-CALDESC:Events for Immanuel Anglican Church
BEGIN:VEVENT
DTSTART;TZID=America/Edmonton:20230222T190000
DTEND;TZID=America/Edmonton:20230222T200000
DTSTAMP:20260424T132340
CREATED:20230128T190946Z
LAST-MODIFIED:20230128T191038Z
UID:6032-1677092400-1677096000@immanuelanglican.ca
SUMMARY:Ash Wednesday Service
DESCRIPTION: \n
URL:https://immanuelanglican.ca/event/ash-wednesday-service-5/
CATEGORIES:One Time
END:VEVENT
END:VCALENDAR