BEGIN:VCALENDAR
VERSION:2.0
PRODID:-//Immanuel Anglican Church - ECPv4.6.19//NONSGML v1.0//EN
CALSCALE:GREGORIAN
METHOD:PUBLISH
X-WR-CALNAME:Immanuel Anglican Church
X-ORIGINAL-URL:https://immanuelanglican.ca
X-WR-CALDESC:Events for Immanuel Anglican Church
BEGIN:VEVENT
DTSTART;TZID=America/Edmonton:20230211T093000
DTEND;TZID=America/Edmonton:20230211T153000
DTSTAMP:20260424T114804
CREATED:20230105T185720Z
LAST-MODIFIED:20230105T185720Z
UID:6004-1676107800-1676129400@immanuelanglican.ca
SUMMARY:ACW Worship on Domestic Violence
DESCRIPTION:Stay tuned for more information.  Tickets are $20 and include lunch.  These will be available soon. \n
URL:https://immanuelanglican.ca/event/acw-worship-on-domestic-violence/
CATEGORIES:One Time
END:VEVENT
END:VCALENDAR