BEGIN:VCALENDAR
VERSION:2.0
PRODID:-//Immanuel Anglican Church - ECPv4.6.19//NONSGML v1.0//EN
CALSCALE:GREGORIAN
METHOD:PUBLISH
X-WR-CALNAME:Immanuel Anglican Church
X-ORIGINAL-URL:https://immanuelanglican.ca
X-WR-CALDESC:Events for Immanuel Anglican Church
BEGIN:VEVENT
DTSTART;TZID=America/Edmonton:20230205T100000
DTEND;TZID=America/Edmonton:20230205T110000
DTSTAMP:20260424T115335
CREATED:20230128T191229Z
LAST-MODIFIED:20230128T191325Z
UID:6036-1675591200-1675594800@immanuelanglican.ca
SUMMARY:Remembering the Children Service
DESCRIPTION: \n
URL:https://immanuelanglican.ca/event/remembering-the-children-service/
CATEGORIES:One Time
END:VEVENT
END:VCALENDAR