BEGIN:VCALENDAR
VERSION:2.0
PRODID:-//Immanuel Anglican Church - ECPv4.6.19//NONSGML v1.0//EN
CALSCALE:GREGORIAN
METHOD:PUBLISH
X-WR-CALNAME:Immanuel Anglican Church
X-ORIGINAL-URL:https://immanuelanglican.ca
X-WR-CALDESC:Events for Immanuel Anglican Church
BEGIN:VEVENT
DTSTART;TZID=America/Edmonton:20230107T100000
DTEND;TZID=America/Edmonton:20230107T133000
DTSTAMP:20260424T135956
CREATED:20230105T185510Z
LAST-MODIFIED:20230105T185510Z
UID:6000-1673085600-1673098200@immanuelanglican.ca
SUMMARY:ACW Meeting
DESCRIPTION:The ACW will hold their regular business meeting\, followed by lunch\, and then the storage of Christmas decorations and trees. \n
URL:https://immanuelanglican.ca/event/acw-meeting-16/
CATEGORIES:One Time
END:VEVENT
END:VCALENDAR