BEGIN:VCALENDAR
VERSION:2.0
PRODID:-//Immanuel Anglican Church - ECPv4.6.19//NONSGML v1.0//EN
CALSCALE:GREGORIAN
METHOD:PUBLISH
X-WR-CALNAME:Immanuel Anglican Church
X-ORIGINAL-URL:https://immanuelanglican.ca
X-WR-CALDESC:Events for Immanuel Anglican Church
BEGIN:VEVENT
DTSTART;TZID=America/Edmonton:20221224T183000
DTEND;TZID=America/Edmonton:20221224T193000
DTSTAMP:20260424T155548
CREATED:20221219T165843Z
LAST-MODIFIED:20221219T165843Z
UID:5990-1671906600-1671910200@immanuelanglican.ca
SUMMARY:Christmas Eve Service
DESCRIPTION:
URL:https://immanuelanglican.ca/event/christmas-eve-service-4/
CATEGORIES:One Time
END:VEVENT
END:VCALENDAR