BEGIN:VCALENDAR
VERSION:2.0
PRODID:-//Immanuel Anglican Church - ECPv4.6.19//NONSGML v1.0//EN
CALSCALE:GREGORIAN
METHOD:PUBLISH
X-WR-CALNAME:Immanuel Anglican Church
X-ORIGINAL-URL:https://immanuelanglican.ca
X-WR-CALDESC:Events for Immanuel Anglican Church
BEGIN:VEVENT
DTSTART;TZID=America/Edmonton:20221221T190000
DTEND;TZID=America/Edmonton:20221221T200000
DTSTAMP:20260424T161231
CREATED:20221212T171021Z
LAST-MODIFIED:20221212T171021Z
UID:5979-1671649200-1671652800@immanuelanglican.ca
SUMMARY:Longest Night Service
DESCRIPTION:You are welcome to join us for our Longest Night Service. \n
URL:https://immanuelanglican.ca/event/longest-night-service/
CATEGORIES:One Time
END:VEVENT
END:VCALENDAR