BEGIN:VCALENDAR
VERSION:2.0
PRODID:-//Immanuel Anglican Church - ECPv4.6.19//NONSGML v1.0//EN
CALSCALE:GREGORIAN
METHOD:PUBLISH
X-WR-CALNAME:Immanuel Anglican Church
X-ORIGINAL-URL:https://immanuelanglican.ca
X-WR-CALDESC:Events for Immanuel Anglican Church
BEGIN:VEVENT
DTSTART;TZID=America/Edmonton:20211224T180000
DTEND;TZID=America/Edmonton:20211224T193000
DTSTAMP:20260425T143041
CREATED:20211216T211905Z
LAST-MODIFIED:20211216T211905Z
UID:5538-1640368800-1640374200@immanuelanglican.ca
SUMMARY:Christmas Eve Service
DESCRIPTION:
URL:https://immanuelanglican.ca/event/christmas-eve-service-3/
CATEGORIES:One Time
END:VEVENT
END:VCALENDAR