BEGIN:VCALENDAR
VERSION:2.0
PRODID:-//Immanuel Anglican Church - ECPv4.6.19//NONSGML v1.0//EN
CALSCALE:GREGORIAN
METHOD:PUBLISH
X-WR-CALNAME:Immanuel Anglican Church
X-ORIGINAL-URL:https://immanuelanglican.ca
X-WR-CALDESC:Events for Immanuel Anglican Church
BEGIN:VEVENT
DTSTART;TZID=America/Edmonton:20211106T100000
DTEND;TZID=America/Edmonton:20211106T120000
DTSTAMP:20260425T162103
CREATED:20211101T171502Z
LAST-MODIFIED:20211101T171502Z
UID:5502-1636192800-1636200000@immanuelanglican.ca
SUMMARY:ACW Meeting
DESCRIPTION:
URL:https://immanuelanglican.ca/event/acw-meeting-12/
CATEGORIES:Monthly
END:VEVENT
END:VCALENDAR