BEGIN:VCALENDAR
VERSION:2.0
PRODID:-//Immanuel Anglican Church - ECPv4.6.19//NONSGML v1.0//EN
CALSCALE:GREGORIAN
METHOD:PUBLISH
X-WR-CALNAME:Immanuel Anglican Church
X-ORIGINAL-URL:https://immanuelanglican.ca
X-WR-CALDESC:Events for Immanuel Anglican Church
BEGIN:VEVENT
DTSTART;TZID=America/Edmonton:20211002T160000
DTEND;TZID=America/Edmonton:20211002T180000
DTSTAMP:20260425T181130
CREATED:20210915T173213Z
LAST-MODIFIED:20210915T173232Z
UID:5472-1633190400-1633197600@immanuelanglican.ca
SUMMARY:Pet Blessing at the By the Lake Bark Park
DESCRIPTION:
URL:https://immanuelanglican.ca/event/pet-blessing/
CATEGORIES:One Time
END:VEVENT
END:VCALENDAR