BEGIN:VCALENDAR
VERSION:2.0
PRODID:-//Immanuel Anglican Church - ECPv4.6.19//NONSGML v1.0//EN
CALSCALE:GREGORIAN
METHOD:PUBLISH
X-WR-CALNAME:Immanuel Anglican Church
X-ORIGINAL-URL:https://immanuelanglican.ca
X-WR-CALDESC:Events for Immanuel Anglican Church
BEGIN:VEVENT
DTSTART;TZID=America/Edmonton:20210910T080000
DTEND;TZID=America/Edmonton:20210910T100000
DTSTAMP:20260424T073155
CREATED:20210811T151719Z
LAST-MODIFIED:20210811T151719Z
UID:5439-1631260800-1631268000@immanuelanglican.ca
SUMMARY:Vestry Meeting
DESCRIPTION:
URL:https://immanuelanglican.ca/event/vestry-meeting-34/
CATEGORIES:Monthly
END:VEVENT
END:VCALENDAR