BEGIN:VCALENDAR
VERSION:2.0
PRODID:-//Immanuel Anglican Church - ECPv4.6.19//NONSGML v1.0//EN
CALSCALE:GREGORIAN
METHOD:PUBLISH
X-WR-CALNAME:Immanuel Anglican Church
X-ORIGINAL-URL:https://immanuelanglican.ca
X-WR-CALDESC:Events for Immanuel Anglican Church
BEGIN:VEVENT
DTSTART;TZID=America/Edmonton:20210821T100000
DTEND;TZID=America/Edmonton:20210821T110000
DTSTAMP:20260422T144119
CREATED:20210816T172225Z
LAST-MODIFIED:20210816T172225Z
UID:5449-1629540000-1629543600@immanuelanglican.ca
SUMMARY:ACW Meeting
DESCRIPTION:
URL:https://immanuelanglican.ca/event/acw-meeting-11/
CATEGORIES:Monthly
END:VEVENT
END:VCALENDAR