BEGIN:VCALENDAR
VERSION:2.0
PRODID:-//Immanuel Anglican Church - ECPv4.6.19//NONSGML v1.0//EN
CALSCALE:GREGORIAN
METHOD:PUBLISH
X-WR-CALNAME:Immanuel Anglican Church
X-ORIGINAL-URL:https://immanuelanglican.ca
X-WR-CALDESC:Events for Immanuel Anglican Church
BEGIN:VEVENT
DTSTART;TZID=America/Edmonton:20191222T093000
DTEND;TZID=America/Edmonton:20191222T103000
DTSTAMP:20260424T051546
CREATED:20191104T230845Z
LAST-MODIFIED:20191104T230845Z
UID:4065-1577007000-1577010600@immanuelanglican.ca
SUMMARY:Festival of Lessons and Carols
DESCRIPTION:
URL:https://immanuelanglican.ca/event/festival-of-lessons-and-carols-2/
END:VEVENT
END:VCALENDAR