BEGIN:VCALENDAR
VERSION:2.0
PRODID:-//Immanuel Anglican Church - ECPv4.6.19//NONSGML v1.0//EN
CALSCALE:GREGORIAN
METHOD:PUBLISH
X-WR-CALNAME:Immanuel Anglican Church
X-ORIGINAL-URL:https://immanuelanglican.ca
X-WR-CALDESC:Events for Immanuel Anglican Church
BEGIN:VEVENT
DTSTART;TZID=America/Edmonton:20191208T093000
DTEND;TZID=America/Edmonton:20191208T113000
DTSTAMP:20260424T114242
CREATED:20191104T205807Z
LAST-MODIFIED:20191104T205807Z
UID:3993-1575797400-1575804600@immanuelanglican.ca
SUMMARY:St. Nicholas Sunday
DESCRIPTION:Join us during our regular worship time to learn more about St. Nicholas! \n
URL:https://immanuelanglican.ca/event/st-nicholas-sunday-2/
CATEGORIES:One Time
END:VEVENT
BEGIN:VEVENT
DTSTART;TZID=America/Edmonton:20191208T093000
DTEND;TZID=America/Edmonton:20191208T103000
DTSTAMP:20260424T114242
CREATED:20191104T205913Z
LAST-MODIFIED:20191216T160358Z
UID:3995-1575797400-1575801000@immanuelanglican.ca
SUMMARY:Food Bank Collection
DESCRIPTION:Please join us in supporting our local food banks with a donation of non-perishable food or cash.  Thank you! \n \n
URL:https://immanuelanglican.ca/event/food-bank-collection-12/
CATEGORIES:Monthly
END:VEVENT
END:VCALENDAR