BEGIN:VCALENDAR
VERSION:2.0
PRODID:-//Immanuel Anglican Church - ECPv4.6.19//NONSGML v1.0//EN
CALSCALE:GREGORIAN
METHOD:PUBLISH
X-WR-CALNAME:Immanuel Anglican Church
X-ORIGINAL-URL:https://immanuelanglican.ca
X-WR-CALDESC:Events for Immanuel Anglican Church
BEGIN:VEVENT
DTSTART;TZID=America/Edmonton:20191207T120000
DTEND;TZID=America/Edmonton:20191207T140000
DTSTAMP:20260424T094025
CREATED:20191104T210545Z
LAST-MODIFIED:20191112T172926Z
UID:4003-1575720000-1575727200@immanuelanglican.ca
SUMMARY:ACW Christmas Luncheon
DESCRIPTION:You are welcome to join us for this festive time of fellowship!  Tickets are $20 and we are collecting items for the Salvation Army's Women's Van Ministry in Edmonton.  Please call Betty Anne Greenwall for tickets or more information 780-352-4459. \n  \n
URL:https://immanuelanglican.ca/event/acw-christmas-luncheon/
CATEGORIES:One Time
END:VEVENT
END:VCALENDAR