BEGIN:VCALENDAR
VERSION:2.0
PRODID:-//Immanuel Anglican Church - ECPv4.6.19//NONSGML v1.0//EN
CALSCALE:GREGORIAN
METHOD:PUBLISH
X-WR-CALNAME:Immanuel Anglican Church
X-ORIGINAL-URL:https://immanuelanglican.ca
X-WR-CALDESC:Events for Immanuel Anglican Church
BEGIN:VEVENT
DTSTART;TZID=America/Edmonton:20191107T100000
DTEND;TZID=America/Edmonton:20191107T120000
DTSTAMP:20260419T213010
CREATED:20190909T155424Z
LAST-MODIFIED:20191014T170000Z
UID:3860-1573120800-1573128000@immanuelanglican.ca
SUMMARY:ACW Meeting
DESCRIPTION:All women of Immanuel are invited to the regular ACW meeting. \n
URL:https://immanuelanglican.ca/event/acw-meeting-5/
CATEGORIES:Monthly
END:VEVENT
BEGIN:VEVENT
DTSTART;TZID=America/Edmonton:20191107T190000
DTEND;TZID=America/Edmonton:20191107T200000
DTSTAMP:20260419T213010
CREATED:20191104T205044Z
LAST-MODIFIED:20191104T205044Z
UID:3978-1573153200-1573156800@immanuelanglican.ca
SUMMARY:Taizé Prayer
DESCRIPTION:You are invited to our Taizé Prayer.  It is a meditative time of 45 minutes of song\, silence\, and contemplation. \n \n
URL:https://immanuelanglican.ca/event/taize-prayer-19/
CATEGORIES:Weekly
END:VEVENT
END:VCALENDAR