BEGIN:VCALENDAR
VERSION:2.0
PRODID:-//Immanuel Anglican Church - ECPv4.6.19//NONSGML v1.0//EN
CALSCALE:GREGORIAN
METHOD:PUBLISH
X-WR-CALNAME:Immanuel Anglican Church
X-ORIGINAL-URL:https://immanuelanglican.ca
X-WR-CALDESC:Events for Immanuel Anglican Church
BEGIN:VEVENT
DTSTART;TZID=America/Edmonton:20190526T103000
DTEND;TZID=America/Edmonton:20190526T123000
DTSTAMP:20260420T071555
CREATED:20190504T163537Z
LAST-MODIFIED:20190504T163537Z
UID:3647-1558866600-1558873800@immanuelanglican.ca
SUMMARY:Church Yard Clean-Up and Hot Dog Lunch
DESCRIPTION:Please join us and help with the spring work of cleaning up the church yard followed by a lunch of hot dogs! \n
URL:https://immanuelanglican.ca/event/church-yard-clean-up-and-hot-dog-lunch/
END:VEVENT
END:VCALENDAR