BEGIN:VCALENDAR
VERSION:2.0
PRODID:-//Immanuel Anglican Church - ECPv4.6.19//NONSGML v1.0//EN
CALSCALE:GREGORIAN
METHOD:PUBLISH
X-WR-CALNAME:Immanuel Anglican Church
X-ORIGINAL-URL:https://immanuelanglican.ca
X-WR-CALDESC:Events for Immanuel Anglican Church
BEGIN:VEVENT
DTSTART;TZID=America/Edmonton:20190411T190000
DTEND;TZID=America/Edmonton:20190411T200000
DTSTAMP:20260425T221750
CREATED:20181210T172852Z
LAST-MODIFIED:20190401T145300Z
UID:3319-1555009200-1555012800@immanuelanglican.ca
SUMMARY:Taizé Prayer Service
DESCRIPTION:You are invited to our Taizé Prayer at 7:00 PM.  It is a simple meditative service of 45 minutes of song\, silence\, and contemplation. \n \n
URL:https://immanuelanglican.ca/event/taize-prayer-service-26/
CATEGORIES:Weekly
END:VEVENT
END:VCALENDAR