BEGIN:VCALENDAR
VERSION:2.0
PRODID:-//Immanuel Anglican Church - ECPv4.6.19//NONSGML v1.0//EN
CALSCALE:GREGORIAN
METHOD:PUBLISH
X-WR-CALNAME:Immanuel Anglican Church
X-ORIGINAL-URL:https://immanuelanglican.ca
X-WR-CALDESC:Events for Immanuel Anglican Church
BEGIN:VEVENT
DTSTART;TZID=America/Edmonton:20230917T100000
DTEND;TZID=America/Edmonton:20230917T123000
DTSTAMP:20260419T190710
CREATED:20230828T172433Z
LAST-MODIFIED:20230828T172433Z
UID:6285-1694944800-1694953800@immanuelanglican.ca
SUMMARY:Welcome Back Sunday Worship Service Followed by a Potluck Lunch
DESCRIPTION:
URL:https://immanuelanglican.ca/event/welcome-back-sunday-worship-service-followed-by-a-potluck-lunch/
CATEGORIES:One Time
END:VEVENT
END:VCALENDAR