BEGIN:VCALENDAR
VERSION:2.0
PRODID:-//Immanuel Anglican Church - ECPv4.6.19//NONSGML v1.0//EN
CALSCALE:GREGORIAN
METHOD:PUBLISH
X-WR-CALNAME:Immanuel Anglican Church
X-ORIGINAL-URL:https://immanuelanglican.ca
X-WR-CALDESC:Events for Immanuel Anglican Church
BEGIN:VEVENT
DTSTART;TZID=America/Edmonton:20220513T090000
DTEND;TZID=America/Edmonton:20220513T103000
DTSTAMP:20260425T040010
CREATED:20220408T225256Z
LAST-MODIFIED:20220408T225256Z
UID:5670-1652432400-1652437800@immanuelanglican.ca
SUMMARY:Vestry Meeting
DESCRIPTION:Vestry will meet for their regular meeting. \n
URL:https://immanuelanglican.ca/event/vestry-meeting-39/
CATEGORIES:Monthly
END:VEVENT
END:VCALENDAR