BEGIN:VCALENDAR
VERSION:2.0
PRODID:-//Immanuel Anglican Church - ECPv4.6.19//NONSGML v1.0//EN
CALSCALE:GREGORIAN
METHOD:PUBLISH
X-WR-CALNAME:Immanuel Anglican Church
X-ORIGINAL-URL:https://immanuelanglican.ca
X-WR-CALDESC:Events for Immanuel Anglican Church
BEGIN:VEVENT
DTSTART;TZID=America/Edmonton:20241215T100000
DTEND;TZID=America/Edmonton:20241215T113000
DTSTAMP:20260419T215927
CREATED:20241102T194632Z
LAST-MODIFIED:20241202T172324Z
UID:6851-1734256800-1734262200@immanuelanglican.ca
SUMMARY:Third Sunday in Advent Worship Service
DESCRIPTION:The GIFT Community Choir will join us at the beginning of the service for a short musical offering. \n
URL:https://immanuelanglican.ca/event/third-sunday-in-advent-worship-service/
CATEGORIES:One Time
END:VEVENT
END:VCALENDAR