BEGIN:VCALENDAR
VERSION:2.0
PRODID:-//Immanuel Anglican Church - ECPv4.6.19//NONSGML v1.0//EN
CALSCALE:GREGORIAN
METHOD:PUBLISH
X-WR-CALNAME:Immanuel Anglican Church
X-ORIGINAL-URL:https://immanuelanglican.ca
X-WR-CALDESC:Events for Immanuel Anglican Church
BEGIN:VEVENT
DTSTART;TZID=America/Edmonton:20230910T100000
DTEND;TZID=America/Edmonton:20230910T113000
DTSTAMP:20260419T205545
CREATED:20230828T172345Z
LAST-MODIFIED:20230828T172345Z
UID:6283-1694340000-1694345400@immanuelanglican.ca
SUMMARY:Sunday School Starts Again
DESCRIPTION:Children are invited to attend Sunday School. \n
URL:https://immanuelanglican.ca/event/sunday-school-starts-again/
CATEGORIES:Weekly
END:VEVENT
END:VCALENDAR