BEGIN:VCALENDAR
VERSION:2.0
PRODID:-//Immanuel Anglican Church - ECPv4.6.19//NONSGML v1.0//EN
CALSCALE:GREGORIAN
METHOD:PUBLISH
X-WR-CALNAME:Immanuel Anglican Church
X-ORIGINAL-URL:https://immanuelanglican.ca
X-WR-CALDESC:Events for Immanuel Anglican Church
BEGIN:VEVENT
DTSTART;TZID=America/Edmonton:20230929T174500
DTEND;TZID=America/Edmonton:20230929T193000
DTSTAMP:20260419T142442
CREATED:20230915T174849Z
LAST-MODIFIED:20230925T170055Z
UID:6300-1696009500-1696015800@immanuelanglican.ca
SUMMARY:Spaghetti Supper and Silent Auction Fundraiser/Friendraiser
DESCRIPTION:Come and enjoy a great meal. Spaghetti\, meat sauce\, ceasar salad\, garlic bread\, dessert\, coffee/tea\n$20.00 per adult\, $10.00 age 12 and under\n$60.00 per family\nFor tickets please contact Joyce Sewell via Private Message on Facebook or text her at 780-312-1108. \n
URL:https://immanuelanglican.ca/event/spaghetti-supper-and-silent-auction-fundraiser-friendraiser/
CATEGORIES:One Time
END:VEVENT
END:VCALENDAR