BEGIN:VCALENDAR
VERSION:2.0
PRODID:-//Immanuel Anglican Church - ECPv4.6.19//NONSGML v1.0//EN
CALSCALE:GREGORIAN
METHOD:PUBLISH
X-WR-CALNAME:Immanuel Anglican Church
X-ORIGINAL-URL:https://immanuelanglican.ca
X-WR-CALDESC:Events for Immanuel Anglican Church
BEGIN:VEVENT
DTSTART;TZID=America/Edmonton:20241208T100000
DTEND;TZID=America/Edmonton:20241208T113000
DTSTAMP:20260419T184212
CREATED:20241102T194547Z
LAST-MODIFIED:20241102T194547Z
UID:6849-1733652000-1733657400@immanuelanglican.ca
SUMMARY:Second Sunday in Advent Worship Service
DESCRIPTION:
URL:https://immanuelanglican.ca/event/second-sunday-in-advent-worship-service/
CATEGORIES:One Time
END:VEVENT
END:VCALENDAR