BEGIN:VCALENDAR
VERSION:2.0
PRODID:-//Immanuel Anglican Church - ECPv4.6.19//NONSGML v1.0//EN
CALSCALE:GREGORIAN
METHOD:PUBLISH
X-WR-CALNAME:Immanuel Anglican Church
X-ORIGINAL-URL:https://immanuelanglican.ca
X-WR-CALDESC:Events for Immanuel Anglican Church
BEGIN:VEVENT
DTSTART;TZID=America/Edmonton:20200906T093000
DTEND;TZID=America/Edmonton:20200906T103000
DTSTAMP:20260425T224733
CREATED:20200830T182317Z
LAST-MODIFIED:20200902T161758Z
UID:4852-1599384600-1599388200@immanuelanglican.ca
SUMMARY:Re-opening of In-Person Church Service
DESCRIPTION:Good news!  We are re-opening the church for in-person worship service on  September 6th at 9:30 AM. \nDue to restrictions and concerns about COVID-19 our in-person worship services will look a little different now. Please make sure that you have completed the COVID-19 online self-assessment tool before coming to church.  Here is the link:  https://myhealth.alberta.ca/journey/covid-19/Pages/Assessment.aspx \nAlso for more information about changes to our service and for more instructions\, please follow the link to our COVID-19 page:  COVID-19 \n
URL:https://immanuelanglican.ca/event/re-opening-of-in-person-church-service/
CATEGORIES:Weekly
END:VEVENT
END:VCALENDAR