BEGIN:VCALENDAR
VERSION:2.0
PRODID:-//Immanuel Anglican Church - ECPv4.6.19//NONSGML v1.0//EN
CALSCALE:GREGORIAN
METHOD:PUBLISH
X-WR-CALNAME:Immanuel Anglican Church
X-ORIGINAL-URL:https://immanuelanglican.ca
X-WR-CALDESC:Events for Immanuel Anglican Church
BEGIN:VEVENT
DTSTART;TZID=America/Edmonton:20230926T190000
DTEND;TZID=America/Edmonton:20230926T200000
DTSTAMP:20260419T155307
CREATED:20230925T170030Z
LAST-MODIFIED:20230925T170030Z
UID:6315-1695754800-1695758400@immanuelanglican.ca
SUMMARY:Presentation on an Antartic Travel Experience
DESCRIPTION:Carol and Merv Blair will do a presentation on their Antarctic travel experience\, another amazing part of our world and God's creation.  We will meet in the church hall at 7:00 PM.  This is part of our Season of Creation services. \n
URL:https://immanuelanglican.ca/event/presentation-on-an-antartic-travel-experience/
CATEGORIES:One Time
END:VEVENT
END:VCALENDAR