BEGIN:VCALENDAR
VERSION:2.0
PRODID:-//Immanuel Anglican Church - ECPv4.6.19//NONSGML v1.0//EN
CALSCALE:GREGORIAN
METHOD:PUBLISH
X-WR-CALNAME:Immanuel Anglican Church
X-ORIGINAL-URL:https://immanuelanglican.ca
X-WR-CALDESC:Events for Immanuel Anglican Church
BEGIN:VEVENT
DTSTART;TZID=America/Edmonton:20240413T100000
DTEND;TZID=America/Edmonton:20240413T110000
DTSTAMP:20260419T180100
CREATED:20240409T153711Z
LAST-MODIFIED:20240409T153711Z
UID:6596-1713002400-1713006000@immanuelanglican.ca
SUMMARY:Making Rattles
DESCRIPTION:
URL:https://immanuelanglican.ca/event/making-rattles/
CATEGORIES:One Time
END:VEVENT
END:VCALENDAR