BEGIN:VCALENDAR
VERSION:2.0
PRODID:-//Immanuel Anglican Church - ECPv4.6.19//NONSGML v1.0//EN
CALSCALE:GREGORIAN
METHOD:PUBLISH
X-WR-CALNAME:Immanuel Anglican Church
X-ORIGINAL-URL:https://immanuelanglican.ca
X-WR-CALDESC:Events for Immanuel Anglican Church
BEGIN:VEVENT
DTSTART;TZID=America/Edmonton:20231124T100000
DTEND;TZID=America/Edmonton:20231124T110000
DTSTAMP:20260419T235757
CREATED:20231031T163334Z
LAST-MODIFIED:20231031T163334Z
UID:6364-1700820000-1700823600@immanuelanglican.ca
SUMMARY:Gathering for Coffee
DESCRIPTION:
URL:https://immanuelanglican.ca/event/gathering-for-coffee-6/
CATEGORIES:Biweekly
END:VEVENT
END:VCALENDAR