BEGIN:VCALENDAR
VERSION:2.0
PRODID:-//Immanuel Anglican Church - ECPv4.6.19//NONSGML v1.0//EN
CALSCALE:GREGORIAN
METHOD:PUBLISH
X-WR-CALNAME:Immanuel Anglican Church
X-ORIGINAL-URL:https://immanuelanglican.ca
X-WR-CALDESC:Events for Immanuel Anglican Church
BEGIN:VEVENT
DTSTART;TZID=America/Edmonton:20190421T093000
DTEND;TZID=America/Edmonton:20190421T103000
DTSTAMP:20260424T195150
CREATED:20190219T172247Z
LAST-MODIFIED:20190219T172247Z
UID:3478-1555839000-1555842600@immanuelanglican.ca
SUMMARY:Easter Sunday Celebration
DESCRIPTION:You are invited to help us celebrate on this Easter Sunday. \nWhat is Lent? \n
URL:https://immanuelanglican.ca/event/easter-sunday-celebration/
CATEGORIES:One Time
END:VEVENT
END:VCALENDAR