BEGIN:VCALENDAR
VERSION:2.0
PRODID:-//Immanuel Anglican Church - ECPv4.6.19//NONSGML v1.0//EN
CALSCALE:GREGORIAN
METHOD:PUBLISH
X-WR-CALNAME:Immanuel Anglican Church
X-ORIGINAL-URL:https://immanuelanglican.ca
X-WR-CALDESC:Events for Immanuel Anglican Church
BEGIN:VEVENT
DTSTART;TZID=America/Edmonton:20190420T190000
DTEND;TZID=America/Edmonton:20190420T200000
DTSTAMP:20260424T214646
CREATED:20190401T144549Z
LAST-MODIFIED:20190401T144549Z
UID:3574-1555786800-1555790400@immanuelanglican.ca
SUMMARY:Easter Eve Vigil
DESCRIPTION:We will be having an Easter Eve Vigil.  Please note that we are joining with members of the First United Church and Grace Lutheran Church for this vigil.  The vigil will be hosted at First United Church at 7:00 PM.  The address is 5115 - 51 Avenue. \n
URL:https://immanuelanglican.ca/event/easter-eve-vigil/
CATEGORIES:One Time
END:VEVENT
END:VCALENDAR