BEGIN:VCALENDAR
VERSION:2.0
PRODID:-//Immanuel Anglican Church - ECPv4.6.19//NONSGML v1.0//EN
CALSCALE:GREGORIAN
METHOD:PUBLISH
X-WR-CALNAME:Immanuel Anglican Church
X-ORIGINAL-URL:https://immanuelanglican.ca
X-WR-CALDESC:Events for Immanuel Anglican Church
BEGIN:VEVENT
DTSTART;TZID=America/Edmonton:20250926T100000
DTEND;TZID=America/Edmonton:20250926T110000
DTSTAMP:20260419T121308
CREATED:20250911T173436Z
LAST-MODIFIED:20250911T173436Z
UID:7550-1758880800-1758884400@immanuelanglican.ca
SUMMARY:Coffee Connection
DESCRIPTION:You are invited to join us for coffee and conversation at the Wetaskiwin & District Heritage Museum (5007-50 Avenue) at 10:00 AM. \n
URL:https://immanuelanglican.ca/event/coffee-connection-23/
CATEGORIES:Biweekly
END:VEVENT
END:VCALENDAR