BEGIN:VCALENDAR
VERSION:2.0
PRODID:-//Immanuel Anglican Church - ECPv4.6.19//NONSGML v1.0//EN
CALSCALE:GREGORIAN
METHOD:PUBLISH
X-WR-CALNAME:Immanuel Anglican Church
X-ORIGINAL-URL:https://immanuelanglican.ca
X-WR-CALDESC:Events for Immanuel Anglican Church
BEGIN:VEVENT
DTSTART;TZID=America/Edmonton:20191215T160000
DTEND;TZID=America/Edmonton:20191215T170000
DTSTAMP:20260423T024538
CREATED:20191104T210645Z
LAST-MODIFIED:20191208T195020Z
UID:4005-1576425600-1576429200@immanuelanglican.ca
SUMMARY:Caroling in the Neighborhood
DESCRIPTION:Join us for some Christmas caroling in the neighborhood! \n
URL:https://immanuelanglican.ca/event/carolling-in-the-neighborhood/
CATEGORIES:One Time
END:VEVENT
END:VCALENDAR