BEGIN:VCALENDAR
VERSION:2.0
PRODID:-//Immanuel Anglican Church - ECPv4.6.19//NONSGML v1.0//EN
CALSCALE:GREGORIAN
METHOD:PUBLISH
X-WR-CALNAME:Immanuel Anglican Church
X-ORIGINAL-URL:https://immanuelanglican.ca
X-WR-CALDESC:Events for Immanuel Anglican Church
BEGIN:VEVENT
DTSTART;TZID=America/Edmonton:20240128T113000
DTEND;TZID=America/Edmonton:20240128T123000
DTSTAMP:20260420T044132
CREATED:20240110T195957Z
LAST-MODIFIED:20240110T195957Z
UID:6428-1706441400-1706445000@immanuelanglican.ca
SUMMARY:Annual Meeting
DESCRIPTION:We will hold our annual general meeting after the worship service. \n
URL:https://immanuelanglican.ca/event/annual-meeting/
CATEGORIES:One Time
END:VEVENT
END:VCALENDAR