BEGIN:VCALENDAR
VERSION:2.0
PRODID:-//Immanuel Anglican Church - ECPv4.6.19//NONSGML v1.0//EN
CALSCALE:GREGORIAN
METHOD:PUBLISH
X-WR-CALNAME:Immanuel Anglican Church
X-ORIGINAL-URL:https://immanuelanglican.ca
X-WR-CALDESC:Events for Immanuel Anglican Church
BEGIN:VEVENT
DTSTART;TZID=America/Edmonton:20200126T110000
DTEND;TZID=America/Edmonton:20200126T120000
DTSTAMP:20260423T065931
CREATED:20191112T174152Z
LAST-MODIFIED:20191221T180303Z
UID:4098-1580036400-1580040000@immanuelanglican.ca
SUMMARY:Annual General Meeting
DESCRIPTION:The AGM will be held after the regular worship service this morning. \n
URL:https://immanuelanglican.ca/event/annual-general-meeting/
CATEGORIES:One Time
END:VEVENT
END:VCALENDAR