BEGIN:VCALENDAR
VERSION:2.0
PRODID:-//Immanuel Anglican Church - ECPv4.6.19//NONSGML v1.0//EN
CALSCALE:GREGORIAN
METHOD:PUBLISH
X-WR-CALNAME:Immanuel Anglican Church
X-ORIGINAL-URL:https://immanuelanglican.ca
X-WR-CALDESC:Events for Immanuel Anglican Church
BEGIN:VEVENT
DTSTART;TZID=America/Edmonton:20191130T100000
DTEND;TZID=America/Edmonton:20191130T113000
DTSTAMP:20260423T083404
CREATED:20191112T173842Z
LAST-MODIFIED:20191112T173842Z
UID:4090-1575108000-1575113400@immanuelanglican.ca
SUMMARY:All Hands Needed for Christmas Decorating
DESCRIPTION:Come and help prepare the church and hall for Christmas. \n
URL:https://immanuelanglican.ca/event/all-hands-needed-for-christmas-decorating/
CATEGORIES:One Time
END:VEVENT
END:VCALENDAR