BEGIN:VCALENDAR
VERSION:2.0
PRODID:-//Immanuel Anglican Church - ECPv4.6.19//NONSGML v1.0//EN
CALSCALE:GREGORIAN
METHOD:PUBLISH
X-WR-CALNAME:Immanuel Anglican Church
X-ORIGINAL-URL:https://immanuelanglican.ca
X-WR-CALDESC:Events for Immanuel Anglican Church
BEGIN:VEVENT
DTSTART;TZID=America/Edmonton:20191215T093000
DTEND;TZID=America/Edmonton:20191215T103000
DTSTAMP:20260423T045933
CREATED:20191104T230810Z
LAST-MODIFIED:20191104T230810Z
UID:4063-1576402200-1576405800@immanuelanglican.ca
SUMMARY:Advent 3 Service
DESCRIPTION:
URL:https://immanuelanglican.ca/event/advent-3-service/
END:VEVENT
END:VCALENDAR