BEGIN:VCALENDAR
VERSION:2.0
PRODID:-//Immanuel Anglican Church - ECPv4.6.19//NONSGML v1.0//EN
CALSCALE:GREGORIAN
METHOD:PUBLISH
X-WR-CALNAME:Immanuel Anglican Church
X-ORIGINAL-URL:https://immanuelanglican.ca
X-WR-CALDESC:Events for Immanuel Anglican Church
BEGIN:VEVENT
DTSTART;TZID=America/Edmonton:20201024T100000
DTEND;TZID=America/Edmonton:20201024T120000
DTSTAMP:20260422T191101
CREATED:20200919T153240Z
LAST-MODIFIED:20201008T183642Z
UID:4944-1603533600-1603540800@immanuelanglican.ca
SUMMARY:ACW Whitemud Regional Meeting
DESCRIPTION:Immanuel will be hosting the ACW Whitemud Regional Meeting on Saturday\, Oct. 24 from 10:00 to 11:30 AM\, via Zoom.  We will share Morning Prayer led by Rev. Hugh and then have our business meeting.  Our special guest speaker will be Carol Blair\, our own Rector's Warden.  This year's theme\, 'Love is Something You Do'\, is based on Matthew's gospel ". . . whatever you did for one of the least of these brothers and and sisters of mine\, you did for me" (Matthew 25:40).  We hope that you can join us as we join together to celebrate God's love and our many blessings in spite of the pandemic obstacles. \nFor more information and the Zoom instructions please contact Betty Anne Greenwall at greenwallb@yahoo.ca. \n \n
URL:https://immanuelanglican.ca/event/acw-whitemud-regional-meeting/
CATEGORIES:One Time
END:VEVENT
END:VCALENDAR