BEGIN:VCALENDAR
VERSION:2.0
PRODID:-//Immanuel Anglican Church - ECPv4.6.19//NONSGML v1.0//EN
CALSCALE:GREGORIAN
METHOD:PUBLISH
X-WR-CALNAME:Immanuel Anglican Church
X-ORIGINAL-URL:https://immanuelanglican.ca
X-WR-CALDESC:Events for Immanuel Anglican Church
BEGIN:VEVENT
DTSTART;TZID=America/Edmonton:20251108T100000
DTEND;TZID=America/Edmonton:20251108T113000
DTSTAMP:20260419T142042
CREATED:20250915T211804Z
LAST-MODIFIED:20250915T211812Z
UID:7581-1762596000-1762601400@immanuelanglican.ca
SUMMARY:ACW Meeting
DESCRIPTION:The ACW will hold a planning meeting for upcoming events. \n
URL:https://immanuelanglican.ca/event/acw-meeting-29/
CATEGORIES:Monthly
END:VEVENT
END:VCALENDAR