BEGIN:VCALENDAR
VERSION:2.0
PRODID:-//Immanuel Anglican Church - ECPv4.6.19//NONSGML v1.0//EN
CALSCALE:GREGORIAN
METHOD:PUBLISH
X-WR-CALNAME:Immanuel Anglican Church
X-ORIGINAL-URL:https://immanuelanglican.ca
X-WR-CALDESC:Events for Immanuel Anglican Church
BEGIN:VEVENT
DTSTART;TZID=America/Edmonton:20250906T100000
DTEND;TZID=America/Edmonton:20250906T120000
DTSTAMP:20260419T134857
CREATED:20250820T191336Z
LAST-MODIFIED:20250820T191336Z
UID:7477-1757152800-1757160000@immanuelanglican.ca
SUMMARY:ACW Meeting
DESCRIPTION:
URL:https://immanuelanglican.ca/event/acw-meeting-28/
CATEGORIES:Monthly
END:VEVENT
END:VCALENDAR