BEGIN:VCALENDAR
VERSION:2.0
PRODID:-//Immanuel Anglican Church - ECPv4.6.19//NONSGML v1.0//EN
CALSCALE:GREGORIAN
METHOD:PUBLISH
X-WR-CALNAME:Immanuel Anglican Church
X-ORIGINAL-URL:https://immanuelanglican.ca
X-WR-CALDESC:Events for Immanuel Anglican Church
BEGIN:VEVENT
DTSTART;TZID=America/Edmonton:20230916T100000
DTEND;TZID=America/Edmonton:20230916T113000
DTSTAMP:20260419T190807
CREATED:20230812T231155Z
LAST-MODIFIED:20230812T231155Z
UID:6241-1694858400-1694863800@immanuelanglican.ca
SUMMARY:ACW Meeting
DESCRIPTION:The ACW will meet for their regular business meeting. \n
URL:https://immanuelanglican.ca/event/acw-meeting-20/
CATEGORIES:Monthly
END:VEVENT
END:VCALENDAR