BEGIN:VCALENDAR
VERSION:2.0
PRODID:-//Immanuel Anglican Church - ECPv4.6.19//NONSGML v1.0//EN
CALSCALE:GREGORIAN
METHOD:PUBLISH
X-WR-CALNAME:Immanuel Anglican Church
X-ORIGINAL-URL:https://immanuelanglican.ca
X-WR-CALDESC:Events for Immanuel Anglican Church
BEGIN:VEVENT
DTSTART;TZID=America/Edmonton:20241207T113000
DTEND;TZID=America/Edmonton:20241207T133000
DTSTAMP:20260419T171227
CREATED:20241102T194327Z
LAST-MODIFIED:20241102T194327Z
UID:6842-1733571000-1733578200@immanuelanglican.ca
SUMMARY:ACW Christmas Luncheon
DESCRIPTION:
URL:https://immanuelanglican.ca/event/acw-christmas-luncheon-3/
CATEGORIES:One Time
END:VEVENT
END:VCALENDAR